BEGIN:VCALENDAR
VERSION:2.0
PRODID:-//hacksw/handcal//NONSGML v1.0//EN
CALSCALE:GREGORIAN
BEGIN:VEVENT
ORGANIZER;CN=Visteon Corporation:MAILTO:no-reply@mail.gcs-web.com
DTEND:
UID:322e22df-3b9a-4e14-8036-aa59592144cc
DTSTAMP:1619158118
LOCATION:https://edge.media-server.com/mmc/p/vwu5ikdp
DESCRIPTION:Event Details http://investors.visteon.com/events/event-details/q1-2021-visteon-corporation-earnings-conference-call\n\nWebcast: https://edge.media-server.com/mmc/p/vwu5ikdp
URL;VALUE=URI:https://edge.media-server.com/mmc/p/vwu5ikdp
SUMMARY:Visteon Corporation - Q1 2021 Visteon Corporation Earnings Conference Call
DTSTART:20210429T130000Z
END:VEVENT
END:VCALENDAR